BEGIN:VCALENDAR
VERSION:2.0
PRODID:-//Intand Corporation//Tandem//EN
METHOD:PUBLISH
BEGIN:VEVENT
DTSTAMP:20260424T041055Z
DTSTART:20240404T210000Z
DTEND:20240405T000000Z
TRANSP:TRANSPARENT
PRIORITY:0
SUMMARY:LHS-C Team Baseball Home vs Park Hill/Smithville
LOCATION:LHS Ball Diamond 1
DESCRIPTION:Groups:\nLHS Baseball C-Team\n\nSchools:\nLiberty High School\
 n\nLocation:\nLHS Ball Diamond 1\n\n
URL;VALUE=URI:http://liberty53.tandem.co/index.php?type=view&action=event&
 id=475456
CREATED:20230614T160333Z
LAST-MODIFIED:20230614T160333Z
UID:event-475456-liberty53@intand.com
END:VEVENT
END:VCALENDAR
