BEGIN:VCALENDAR
VERSION:2.0
PRODID:-//Intand Corporation//Tandem//EN
METHOD:PUBLISH
BEGIN:VEVENT
DTSTAMP:20260424T020310Z
DTSTART:20230911T221500Z
DTEND:20230911T233000Z
TRANSP:TRANSPARENT
PRIORITY:0
SUMMARY:LNHS C-Gold Soccer Game vs. Lee's Summit
LOCATION:LMS Soccer Complex
DESCRIPTION:Groups:\nLNHS Soccer - Boys C-Gold\n\nSchools:\nLiberty North 
 High School\nLiberty Middle School\n\nLocation:\nLMS Soccer Complex\n\n
URL;VALUE=URI:http://liberty53.tandem.co/index.php?type=view&action=event&
 id=475450
CREATED:20230614T155232Z
LAST-MODIFIED:20230614T155232Z
UID:event-475450-liberty53@intand.com
END:VEVENT
END:VCALENDAR
