BEGIN:VCALENDAR
VERSION:2.0
PRODID:-//Intand Corporation//Tandem//EN
METHOD:PUBLISH
BEGIN:VEVENT
DTSTAMP:20260424T043711Z
DTSTART:20231013T203000Z
DTEND:20231013T223000Z
TRANSP:TRANSPARENT
PRIORITY:0
SUMMARY:LNHS Boys Soccer Practice - Gold Team
LOCATION:LNHS Soccer Practice Field - Lower
DESCRIPTION:Groups:\nLNHS Soccer - Boys C-Gold\n\nSchools:\nLiberty North 
 High School\n\nLocation:\nLNHS Soccer Practice Field - Lower\n\n
URL;VALUE=URI:http://liberty53.tandem.co/index.php?type=view&action=event&
 id=475388
CREATED:20230613T174024Z
LAST-MODIFIED:20230618T212408Z
UID:event_request-475388-liberty53@intand.com
END:VEVENT
END:VCALENDAR
