BEGIN:VCALENDAR
VERSION:2.0
PRODID:-//Intand Corporation//Tandem//EN
METHOD:PUBLISH
BEGIN:VEVENT
DTSTAMP:20260424T162122Z
DTSTART:20230829T230000Z
DTEND:20230830T003000Z
TRANSP:TRANSPARENT
PRIORITY:0
SUMMARY:LMS-Parent Information Night
LOCATION:Liberty Middle School
DESCRIPTION:Schools:\nLiberty Middle School\n\nLocation:\nLiberty Middle S
 chool\n\n
URL;VALUE=URI:http://liberty53.tandem.co/index.php?type=view&action=event&
 id=475311
CREATED:20230613T140439Z
LAST-MODIFIED:20230613T140439Z
UID:event-475311-liberty53@intand.com
END:VEVENT
END:VCALENDAR
