BEGIN:VCALENDAR
VERSION:2.0
PRODID:-//Intand Corporation//Tandem//EN
METHOD:PUBLISH
BEGIN:VEVENT
DTSTAMP:20260424T053726Z
DTSTART:20240424T193000Z
DTEND:20240425T045959Z
TRANSP:TRANSPARENT
PRIORITY:0
SUMMARY:Senior Signing Ceremony
LOCATION:LHS LMC Main Floor
DESCRIPTION:Breakdown: TBD\n\nReturn: TBD\n\nGroups:\nLHS Counselors\n\nSc
 hools:\nLiberty High School\n\nLocation:\nLHS LMC Main Floor\n\n
URL;VALUE=URI:http://liberty53.tandem.co/index.php?type=view&action=event&
 id=475309
CREATED:20230613T133507Z
LAST-MODIFIED:20230620T154652Z
UID:event_request-475309-liberty53@intand.com
END:VEVENT
END:VCALENDAR
