BEGIN:VCALENDAR
VERSION:2.0
PRODID:-//Intand Corporation//Tandem//EN
METHOD:PUBLISH
BEGIN:VEVENT
DTSTAMP:20260424T033436Z
DTSTART:20231012T130000Z
DTEND:20231012T203000Z
TRANSP:TRANSPARENT
PRIORITY:0
SUMMARY:[Cancelled] College Open Lab (Optional)
LOCATION:LHS LMC Lab 301
DESCRIPTION:Groups:\nLHS Counselors\n\nSchools:\nLiberty High School\n\nLo
 cation:\nLHS LMC Lab 301\n\n
URL;VALUE=URI:http://liberty53.tandem.co/index.php?type=view&action=event&
 id=475272
CREATED:20230612T191550Z
LAST-MODIFIED:20230620T154652Z
UID:event_request-475272-liberty53@intand.com
END:VEVENT
END:VCALENDAR
