BEGIN:VCALENDAR
VERSION:2.0
PRODID:-//Intand Corporation//Tandem//EN
METHOD:PUBLISH
BEGIN:VEVENT
DTSTAMP:20260424T040530Z
DTSTART:20240125T133000Z
DTEND:20240125T213000Z
TRANSP:TRANSPARENT
PRIORITY:0
SUMMARY:DAC 410/409-  Cohort 2 Middle/High (Ellin Keene)
LOCATION:DAC 4 - 409\, DAC 4 - 410
DESCRIPTION:Groups:\nDAC Innovation & Learning\n\nSchools:\nDistrict Admin
 istration Center\n\nLocations:\nDAC 4 - 409\nDAC 4 - 410\n\n
URL;VALUE=URI:http://liberty53.tandem.co/index.php?type=view&action=event&
 id=475255
CREATED:20230612T184321Z
LAST-MODIFIED:20230612T184321Z
UID:event-475255-liberty53@intand.com
END:VEVENT
END:VCALENDAR
