BEGIN:VCALENDAR
VERSION:2.0
PRODID:-//Intand Corporation//Tandem//EN
METHOD:PUBLISH
BEGIN:VEVENT
DTSTAMP:20260424T043626Z
DTSTART:20230613T143000Z
DTEND:20230613T170000Z
TRANSP:TRANSPARENT
PRIORITY:0
SUMMARY:[Cancelled] DAC 3 - Exec Conf Room - Superintendent
LOCATION:DAC 3-Executive Conference Room
DESCRIPTION:Dr. Tucker meeting\n\nGroups:\nSuperintendent\n\nSchools:\nDis
 trict Administration Center\n\nLocation:\nDAC 3-Executive Conference Room\
 n\n
URL;VALUE=URI:http://liberty53.tandem.co/index.php?type=view&action=event&
 id=475180
CREATED:20230612T165505Z
LAST-MODIFIED:20230612T181202Z
UID:event-475180-liberty53@intand.com
END:VEVENT
END:VCALENDAR
