BEGIN:VCALENDAR
VERSION:2.0
PRODID:-//Intand Corporation//Tandem//EN
METHOD:PUBLISH
BEGIN:VEVENT
DTSTAMP:20260424T043142Z
DTSTART;VALUE=DATE:20240318
DTEND;VALUE=DATE:20240319
TRANSP:TRANSPARENT
PRIORITY:0
SUMMARY:LHS-Var Soccer Trn at Platte County
LOCATION:Platte County High School
DESCRIPTION:Setup: TBD\nBreakdown: TBD\n\nDepart: TBD\nReturn: TBD\n\nGrou
 ps:\nLHS Girls Soccer JV/Varsity\n\nSchools:\nLiberty High School\n\nLocat
 ion:\nPlatte County High School\n\n
URL;VALUE=URI:http://liberty53.tandem.co/index.php?type=view&action=event&
 id=475159
CREATED:20230612T161123Z
LAST-MODIFIED:20230612T161123Z
UID:event-475159-liberty53@intand.com
END:VEVENT
END:VCALENDAR
