BEGIN:VCALENDAR
VERSION:2.0
PRODID:-//Intand Corporation//Tandem//EN
METHOD:PUBLISH
BEGIN:VEVENT
DTSTAMP:20260424T073846Z
DTSTART:20230912T200000Z
DTEND:20230913T003000Z
TRANSP:TRANSPARENT
PRIORITY:0
SUMMARY:LHS- College Fair 
LOCATION:LHS Cokely Gym\, LHS View Main Floor\, LHS View Black Box Rm 38
DESCRIPTION:Groups:\nLHS Counselors\n\nSchools:\nLiberty High School\n\nLo
 cations:\nLHS Cokely Gym\nLHS View Main Floor\nLHS View Black Box Rm 38\n\
 n
URL;VALUE=URI:http://liberty53.tandem.co/index.php?type=view&action=event&
 id=475080
CREATED:20230612T140843Z
LAST-MODIFIED:20230620T154619Z
UID:event_request-475080-liberty53@intand.com
END:VEVENT
END:VCALENDAR
