BEGIN:VCALENDAR
VERSION:2.0
PRODID:-//Intand Corporation//Tandem//EN
METHOD:PUBLISH
BEGIN:VEVENT
DTSTAMP:20260424T073941Z
DTSTART:20240124T003000Z
DTEND:20240124T020000Z
TRANSP:TRANSPARENT
PRIORITY:0
SUMMARY:DMS- Incoming 6th Grade Family Night
LOCATION:DMS Room 101\, DMS Room 103\, DMS Room 123\, DMS Commons\, DMS Ca
 feteria\, DMS Room 100\, DMS Room 102\, DMS Birdcage\, DMS LMC\, DMS Cool 
 Beans
DESCRIPTION:Groups:\nDMS Administrative Assistants\n\nSchools:\nDiscovery 
 Middle School\n\nLocations:\nDMS Room 101\nDMS Room 103\nDMS Room 123\nDMS
  Commons\nDMS Cafeteria\nDMS Room 100\nDMS Room 102\nDMS Birdcage\nDMS LMC
 \nDMS Cool Beans\n\n
URL;VALUE=URI:http://liberty53.tandem.co/index.php?type=view&action=event&
 id=475068
CREATED:20230609T175628Z
LAST-MODIFIED:20230609T175628Z
UID:event-475068-liberty53@intand.com
END:VEVENT
END:VCALENDAR
