BEGIN:VCALENDAR
VERSION:2.0
PRODID:-//Intand Corporation//Tandem//EN
METHOD:PUBLISH
BEGIN:VEVENT
DTSTAMP:20260424T061912Z
DTSTART:20230706T230000Z
DTEND:20230707T003000Z
TRANSP:TRANSPARENT
PRIORITY:0
SUMMARY:LHS Girls Soccer Kick Around
LOCATION:LHS Turf Game Field
DESCRIPTION:Open to any current 9th-12th grade girl who is participating i
 n soccer in the Spring of 2024\n\nGroups:\nLHS Athletics\n\nSchools:\nLibe
 rty High School\n\nLocation:\nLHS Turf Game Field\n\n
URL;VALUE=URI:http://liberty53.tandem.co/index.php?type=view&action=event&
 id=475026
CREATED:20230608T193901Z
LAST-MODIFIED:20230608T193959Z
UID:event_request-475026-liberty53@intand.com
END:VEVENT
END:VCALENDAR
