BEGIN:VCALENDAR
VERSION:2.0
PRODID:-//Intand Corporation//Tandem//EN
METHOD:PUBLISH
BEGIN:VEVENT
DTSTAMP:20260424T063618Z
DTSTART:20230619T210000Z
DTEND:20230619T230000Z
TRANSP:TRANSPARENT
PRIORITY:0
SUMMARY:LNHS BBB Open Gyms
LOCATION:LNHS Fieldhouse (GH HVAC)
DESCRIPTION:Groups:\nLNHS Basketball - Boys Varsity\nLNHS Basketball - Boy
 s Sophomore\nLNHS Basketball - Boys JV/Varsity\nLNHS Basketball - Boys JV\
 nLNHS Basketball - Boys C-Team\n\nSchools:\nLiberty North High School\nDO 
 NOT USE***Liberty Junior High School\nDO NOT USE****South Valley Junior Hi
 gh School\n\nLocation:\nLNHS Fieldhouse (GH HVAC)\n\n
URL;VALUE=URI:http://liberty53.tandem.co/index.php?type=view&action=event&
 id=475007
CREATED:20230608T170237Z
LAST-MODIFIED:20230608T170237Z
UID:event-475007-liberty53@intand.com
END:VEVENT
END:VCALENDAR
