BEGIN:VCALENDAR
VERSION:2.0
PRODID:-//Intand Corporation//Tandem//EN
METHOD:PUBLISH
BEGIN:VEVENT
DTSTAMP:20260424T023629Z
DTSTART:20240212T233000Z
DTEND:20240213T030000Z
TRANSP:TRANSPARENT
PRIORITY:0
SUMMARY:LHS-JV/Var GBB Away vs Lee Summit North
LOCATION:Lee's Summit North High School
DESCRIPTION:Groups:\nLHS Girls Basketball JV/Varsity\nLHS Girls Basketball
  Varsity\n\nSchools:\nLiberty High School\n\nLocation:\nLee's Summit North
  High School\n\n
URL;VALUE=URI:http://liberty53.tandem.co/index.php?type=view&action=event&
 id=474979
CREATED:20230608T151244Z
LAST-MODIFIED:20230608T170434Z
UID:event-474979-liberty53@intand.com
END:VEVENT
END:VCALENDAR
