BEGIN:VCALENDAR
VERSION:2.0
PRODID:-//Intand Corporation//Tandem//EN
METHOD:PUBLISH
BEGIN:VEVENT
DTSTAMP:20260424T050332Z
DTSTART;VALUE=DATE:20240129
DTEND;VALUE=DATE:20240130
TRANSP:TRANSPARENT
PRIORITY:0
SUMMARY:LHS-GBBVarsity Trn @ NKC
LOCATION:North Kansas City High School
DESCRIPTION:Setup: TBD\nBreakdown: TBD\n\nDepart: TBD\nReturn: TBD\n\nGrou
 ps:\nLHS Girls Basketball JV/Varsity\nLHS Girls Basketball Varsity\n\nScho
 ols:\nLiberty High School\n\nLocation:\nNorth Kansas City High School\n\n
URL;VALUE=URI:http://liberty53.tandem.co/index.php?type=view&action=event&
 id=474976
CREATED:20230608T151244Z
LAST-MODIFIED:20230608T161418Z
UID:event-474976-liberty53@intand.com
END:VEVENT
END:VCALENDAR
