BEGIN:VCALENDAR
VERSION:2.0
PRODID:-//Intand Corporation//Tandem//EN
METHOD:PUBLISH
BEGIN:VEVENT
DTSTAMP:20260424T061642Z
DTSTART:20240117T230000Z
DTEND:20240118T010000Z
TRANSP:TRANSPARENT
PRIORITY:0
SUMMARY:LHS -C Team GBB Away @ Platte County
LOCATION:Platte County High School
DESCRIPTION:Groups:\nLHS Girls Basketball\nLHS Girls Basketball Freshman\n
 \nSchools:\nLiberty High School\n\nLocation:\nPlatte County High School\n\
 n
URL;VALUE=URI:http://liberty53.tandem.co/index.php?type=view&action=event&
 id=474934
CREATED:20230608T141635Z
LAST-MODIFIED:20230608T145319Z
UID:event-474934-liberty53@intand.com
END:VEVENT
END:VCALENDAR
