BEGIN:VCALENDAR
VERSION:2.0
PRODID:-//Intand Corporation//Tandem//EN
METHOD:PUBLISH
BEGIN:VEVENT
DTSTAMP:20260424T023548Z
DTSTART:20240116T230000Z
DTEND:20240117T010000Z
TRANSP:TRANSPARENT
PRIORITY:0
SUMMARY:LHS -C Team GBB Home vs Liberty North
LOCATION:LHS Cokely Gym
DESCRIPTION:Groups:\nLHS Girls Basketball\nLHS Girls Basketball Freshman\n
 \nSchools:\nLiberty High School\n\nLocation:\nLHS Cokely Gym\n\n
URL;VALUE=URI:http://liberty53.tandem.co/index.php?type=view&action=event&
 id=474933
CREATED:20230608T141635Z
LAST-MODIFIED:20230608T145102Z
UID:event-474933-liberty53@intand.com
END:VEVENT
END:VCALENDAR
