BEGIN:VCALENDAR
VERSION:2.0
PRODID:-//Intand Corporation//Tandem//EN
METHOD:PUBLISH
BEGIN:VEVENT
DTSTAMP:20260424T144226Z
DTSTART:20231211T230000Z
DTEND:20231212T010000Z
TRANSP:TRANSPARENT
PRIORITY:0
SUMMARY:LHS -C Team GBB Home vs Excelsior Springs
LOCATION:LHS Cokely Gym
DESCRIPTION:Groups:\nLHS Girls Basketball\nLHS Girls Basketball Freshman\n
 \nSchools:\nLiberty High School\n\nLocation:\nLHS Cokely Gym\n\n
URL;VALUE=URI:http://liberty53.tandem.co/index.php?type=view&action=event&
 id=474925
CREATED:20230608T141635Z
LAST-MODIFIED:20230608T143255Z
UID:event-474925-liberty53@intand.com
END:VEVENT
END:VCALENDAR
