BEGIN:VCALENDAR
VERSION:2.0
PRODID:-//Intand Corporation//Tandem//EN
METHOD:PUBLISH
BEGIN:VEVENT
DTSTAMP:20260424T061748Z
DTSTART:20231206T220000Z
DTEND:20231207T010000Z
TRANSP:TRANSPARENT
PRIORITY:0
SUMMARY:LHS -C Team GBB Away @ St. Teresa Academy
LOCATION:St. Teresa's Academy
DESCRIPTION:Groups:\nLHS Girls Basketball\nLHS Girls Basketball Freshman\n
 \nSchools:\nLiberty High School\n\nLocation:\nSt. Teresa's Academy\n\n
URL;VALUE=URI:http://liberty53.tandem.co/index.php?type=view&action=event&
 id=474923
CREATED:20230608T141635Z
LAST-MODIFIED:20230608T143140Z
UID:event-474923-liberty53@intand.com
END:VEVENT
END:VCALENDAR
