BEGIN:VCALENDAR
VERSION:2.0
PRODID:-//Intand Corporation//Tandem//EN
METHOD:PUBLISH
BEGIN:VEVENT
DTSTAMP:20260424T015249Z
DTSTART:20240501T153000Z
DTEND:20240501T163000Z
TRANSP:TRANSPARENT
PRIORITY:0
SUMMARY:LHS Jostens Ring Delivery & Final Orders
LOCATION:LHS Lower Commons
DESCRIPTION:Groups:\nLHS Jostens\n\nSchools:\nLiberty High School\n\nLocat
 ion:\nLHS Lower Commons\n\n
URL;VALUE=URI:http://liberty53.tandem.co/index.php?type=view&action=event&
 id=474890
CREATED:20230606T170401Z
LAST-MODIFIED:20230606T170401Z
UID:event-474890-liberty53@intand.com
END:VEVENT
END:VCALENDAR
