BEGIN:VCALENDAR
VERSION:2.0
PRODID:-//Intand Corporation//Tandem//EN
METHOD:PUBLISH
BEGIN:VEVENT
DTSTAMP:20260424T055225Z
DTSTART:20230907T130000Z
DTEND:20230907T210000Z
TRANSP:TRANSPARENT
PRIORITY:0
SUMMARY:HR Legal Training
LOCATION:LHS View Black Box Rm 38
DESCRIPTION:Groups:\nDAC Human Resources\nDistrict Leadership Team\n\nScho
 ols:\nDistrict Administration Center\nLiberty High School\n\nLocation:\nLH
 S View Black Box Rm 38\n\nContacts:\nAnn Bell\n\nSupervisors:\nChristelle 
 Morgan\n\n
URL;VALUE=URI:http://liberty53.tandem.co/index.php?type=view&action=event&
 id=474825
CREATED:20230605T172526Z
LAST-MODIFIED:20230606T152319Z
UID:event_request-474825-liberty53@intand.com
END:VEVENT
END:VCALENDAR
