BEGIN:VCALENDAR
VERSION:2.0
PRODID:-//Intand Corporation//Tandem//EN
METHOD:PUBLISH
BEGIN:VEVENT
DTSTAMP:20260424T061635Z
DTSTART:20230615T230000Z
DTEND:20230616T000000Z
TRANSP:TRANSPARENT
PRIORITY:0
SUMMARY:CAA High School Musical JR. Performance
LOCATION:LHS Room 800 PAC/Theater\, LHS Room 801 Gallery\, LHS Theater Lob
 by
DESCRIPTION:Setup: 4:30 pm\nBreakdown: 8:00 pm\n\nGroups:\nFine Arts\n\nSc
 hools:\nDistrict Administration Center\nLiberty High School\n\nLocations:\
 nLHS Room 800 PAC/Theater\nLHS Room 801 Gallery\nLHS Theater Lobby\n\n
URL;VALUE=URI:http://liberty53.tandem.co/index.php?type=view&action=event&
 id=474793
CREATED:20230605T132633Z
LAST-MODIFIED:20230605T132633Z
UID:event-474793-liberty53@intand.com
END:VEVENT
END:VCALENDAR
