BEGIN:VCALENDAR
VERSION:2.0
PRODID:-//Intand Corporation//Tandem//EN
METHOD:PUBLISH
BEGIN:VEVENT
DTSTAMP:20260424T043632Z
DTSTART:20230606T130000Z
DTEND:20230606T170000Z
TRANSP:TRANSPARENT
PRIORITY:0
SUMMARY:DAC 3-Board Room-Transportation Meeting
LOCATION:DAC 3-Board Room
DESCRIPTION:Groups:\nDAC Chief Operations Officer\n\nSchools:\nDistrict Ad
 ministration Center\n\nLocation:\nDAC 3-Board Room\n\n
URL;VALUE=URI:http://liberty53.tandem.co/index.php?type=view&action=event&
 id=474791
CREATED:20230605T132548Z
LAST-MODIFIED:20230605T164603Z
UID:event-474791-liberty53@intand.com
END:VEVENT
END:VCALENDAR
