BEGIN:VCALENDAR
VERSION:2.0
PRODID:-//Intand Corporation//Tandem//EN
METHOD:PUBLISH
BEGIN:VEVENT
DTSTAMP:20260424T023737Z
DTSTART:20230607T210000Z
DTEND:20230607T233000Z
TRANSP:TRANSPARENT
PRIORITY:0
SUMMARY:Throws practice
LOCATION:LNHS Activity Complex
DESCRIPTION:Groups:\nLNHS Track & Field\n\nSchools:\nLiberty North High Sc
 hool\n\nLocation:\nLNHS Activity Complex\n\n
URL;VALUE=URI:http://liberty53.tandem.co/index.php?type=view&action=event&
 id=474724
CREATED:20230602T190303Z
LAST-MODIFIED:20230604T221311Z
UID:event_request-474724-liberty53@intand.com
END:VEVENT
END:VCALENDAR
