BEGIN:VCALENDAR
VERSION:2.0
PRODID:-//Intand Corporation//Tandem//EN
METHOD:PUBLISH
BEGIN:VEVENT
DTSTAMP:20260424T061508Z
DTSTART;VALUE=DATE:20240118
DTEND;VALUE=DATE:20240119
TRANSP:TRANSPARENT
PRIORITY:0
SUMMARY:LHS-Var BBall CW Stessman Tournament 2024
LOCATION:LHS Fieldhouse Gym
DESCRIPTION:Setup: TBD\nBreakdown: TBD\n\nDepart: TBD\nReturn: TBD\n\nGrou
 ps:\nLHS Baseball Varsity\nLHS Boys Basketball JV/Varsity\n\nSchools:\nLib
 erty High School\n\nLocation:\nLHS Fieldhouse Gym\n\n
URL;VALUE=URI:http://liberty53.tandem.co/index.php?type=view&action=event&
 id=474609
CREATED:20230601T191936Z
LAST-MODIFIED:20230601T191936Z
UID:event-474609-liberty53@intand.com
END:VEVENT
END:VCALENDAR
