BEGIN:VCALENDAR
VERSION:2.0
PRODID:-//Intand Corporation//Tandem//EN
METHOD:PUBLISH
BEGIN:VEVENT
DTSTAMP:20260424T024601Z
DTSTART;VALUE=DATE:20240117
DTEND;VALUE=DATE:20240118
TRANSP:TRANSPARENT
PRIORITY:0
SUMMARY:LHS- JV BBall Trn Away @William Chrisman
LOCATION:William Chrisman High School
DESCRIPTION:Setup: TBD\nBreakdown: TBD\n\nDepart: TBD\nReturn: TBD\n\nGrou
 ps:\nLHS Boys Basketball JV/Varsity\n\nSchools:\nLiberty High School\n\nLo
 cation:\nWilliam Chrisman High School\n\n
URL;VALUE=URI:http://liberty53.tandem.co/index.php?type=view&action=event&
 id=474605
CREATED:20230601T191729Z
LAST-MODIFIED:20230601T191729Z
UID:event-474605-liberty53@intand.com
END:VEVENT
END:VCALENDAR
