BEGIN:VCALENDAR
VERSION:2.0
PRODID:-//Intand Corporation//Tandem//EN
METHOD:PUBLISH
BEGIN:VEVENT
DTSTAMP:20260424T033237Z
DTSTART:20240122T230000Z
DTEND:20240123T010000Z
TRANSP:TRANSPARENT
PRIORITY:0
SUMMARY:LHS- 10th BBBall Away @ Park Hill South High 
LOCATION:Park Hill South High School
DESCRIPTION:Groups:\nLHS Boys Basketball\nLHS Boys Basketball Sophomore\n\
 nSchools:\nLiberty High School\n\nLocation:\nPark Hill South High School\n
 \n
URL;VALUE=URI:http://liberty53.tandem.co/index.php?type=view&action=event&
 id=474560
CREATED:20230601T182939Z
LAST-MODIFIED:20230601T184928Z
UID:event-474560-liberty53@intand.com
END:VEVENT
END:VCALENDAR
