BEGIN:VCALENDAR
VERSION:2.0
PRODID:-//Intand Corporation//Tandem//EN
METHOD:PUBLISH
BEGIN:VEVENT
DTSTAMP:20260424T061808Z
DTSTART:20240118T000000Z
DTEND:20240118T013000Z
TRANSP:TRANSPARENT
PRIORITY:0
SUMMARY:LN Incoming 9th grade Info Night
LOCATION:LNHS Performing Arts Theater (GH HVAC)\, LNHS Great Hall
DESCRIPTION:Counselors will invite all incoming 9th graders for the 24-25 
 school year to North for an evening of enrollment information. \n\nGroups:
 \nLNHS Guidance\n\nSchools:\nLiberty North High School\n\nLocations:\nLNHS
  Performing Arts Theater (GH HVAC)\nLNHS Great Hall\n\n
URL;VALUE=URI:http://liberty53.tandem.co/index.php?type=view&action=event&
 id=474392
CREATED:20230531T190508Z
LAST-MODIFIED:20230604T224927Z
UID:event_request-474392-liberty53@intand.com
END:VEVENT
END:VCALENDAR
