BEGIN:VCALENDAR
VERSION:2.0
PRODID:-//Intand Corporation//Tandem//EN
METHOD:PUBLISH
BEGIN:VEVENT
DTSTAMP:20260424T024029Z
DTSTART:20240501T170000Z
DTEND:20240501T183000Z
TRANSP:TRANSPARENT
PRIORITY:0
SUMMARY:LN Jostens
LOCATION:LNHS Room 711
DESCRIPTION:Groups:\nLNHS Grade 11\n\nSchools:\nLiberty North High School\
 n\nLocation:\nLNHS Room 711\n\n
URL;VALUE=URI:http://liberty53.tandem.co/index.php?type=view&action=event&
 id=474318
CREATED:20230530T165537Z
LAST-MODIFIED:20230530T165537Z
UID:event-474318-liberty53@intand.com
END:VEVENT
END:VCALENDAR
