BEGIN:VCALENDAR
VERSION:2.0
PRODID:-//Intand Corporation//Tandem//EN
METHOD:PUBLISH
BEGIN:VEVENT
DTSTAMP:20260424T024150Z
DTSTART;VALUE=DATE:20230801
DTEND;VALUE=DATE:20230802
TRANSP:TRANSPARENT
PRIORITY:0
SUMMARY:LN- Admin Asst Retreat
LOCATION:LNHS Room 711
DESCRIPTION:Groups:\nLNHS Administration\n\nSchools:\nLiberty North High S
 chool\n\nLocation:\nLNHS Room 711\n\n
URL;VALUE=URI:http://liberty53.tandem.co/index.php?type=view&action=event&
 id=474269
CREATED:20230530T125646Z
LAST-MODIFIED:20230530T143216Z
UID:event_request-474269-liberty53@intand.com
END:VEVENT
END:VCALENDAR
