BEGIN:VCALENDAR
VERSION:2.0
PRODID:-//Intand Corporation//Tandem//EN
METHOD:PUBLISH
BEGIN:VEVENT
DTSTAMP:20260424T161136Z
DTSTART:20230808T134500Z
DTEND:20230808T210000Z
TRANSP:TRANSPARENT
PRIORITY:0
SUMMARY:LN JV GG Dance Camp
LOCATION:LNHS Aux Gym - 407 (GH HVAC)
DESCRIPTION:Groups:\nLNHS Dance Team\n\nSchools:\nLiberty North High Schoo
 l\n\nLocation:\nLNHS Aux Gym - 407 (GH HVAC)\n\n
URL;VALUE=URI:http://liberty53.tandem.co/index.php?type=view&action=event&
 id=474219
CREATED:20230524T170943Z
LAST-MODIFIED:20230524T170943Z
UID:event-474219-liberty53@intand.com
END:VEVENT
END:VCALENDAR
