BEGIN:VCALENDAR
VERSION:2.0
PRODID:-//Intand Corporation//Tandem//EN
METHOD:PUBLISH
BEGIN:VEVENT
DTSTAMP:20260424T074153Z
DTSTART:20230614T230000Z
DTEND:20230615T020000Z
TRANSP:TRANSPARENT
PRIORITY:0
SUMMARY:LHS Varsity Sapphire Practice
LOCATION:LHS Fieldhouse Gym
DESCRIPTION:Groups:\nLHS Sapphires Varsity\n\nSchools:\nLiberty High Schoo
 l\n\nLocation:\nLHS Fieldhouse Gym\n\n
URL;VALUE=URI:http://liberty53.tandem.co/index.php?type=view&action=event&
 id=474105
CREATED:20230523T011553Z
LAST-MODIFIED:20230523T161922Z
UID:event_request-474105-liberty53@intand.com
END:VEVENT
END:VCALENDAR
