BEGIN:VCALENDAR
VERSION:2.0
PRODID:-//Intand Corporation//Tandem//EN
METHOD:PUBLISH
BEGIN:VEVENT
DTSTAMP:20260424T024350Z
DTSTART:20230523T123000Z
DTEND:20230523T133000Z
TRANSP:TRANSPARENT
PRIORITY:0
SUMMARY:Parent Meeting - Borer/Kingore
LOCATION:LHS Guidance Conference Room
DESCRIPTION:Groups:\nLHS Speech Pathologists'\n\nSchools:\nLiberty High Sc
 hool\n\nLocation:\nLHS Guidance Conference Room\n\n
URL;VALUE=URI:http://liberty53.tandem.co/index.php?type=view&action=event&
 id=474102
CREATED:20230522T202257Z
LAST-MODIFIED:20230523T161922Z
UID:event_request-474102-liberty53@intand.com
END:VEVENT
END:VCALENDAR
