BEGIN:VCALENDAR
VERSION:2.0
PRODID:-//Intand Corporation//Tandem//EN
METHOD:PUBLISH
BEGIN:VEVENT
DTSTAMP:20260424T015254Z
DTSTART:20230522T230000Z
DTEND:20230523T020000Z
TRANSP:TRANSPARENT
PRIORITY:0
SUMMARY:LN - S+ Open Gym
LOCATION:LNHS Fieldhouse (GH HVAC)
DESCRIPTION:Groups:\nLNHS Grade 12\n\nSchools:\nLiberty North High School\
 n\nLocation:\nLNHS Fieldhouse (GH HVAC)\n\n
URL;VALUE=URI:http://liberty53.tandem.co/index.php?type=view&action=event&
 id=474100
CREATED:20230522T181511Z
LAST-MODIFIED:20230522T200235Z
UID:event_request-474100-liberty53@intand.com
END:VEVENT
END:VCALENDAR
