BEGIN:VCALENDAR
VERSION:2.0
PRODID:-//Intand Corporation//Tandem//EN
METHOD:PUBLISH
BEGIN:VEVENT
DTSTAMP:20260424T023516Z
DTSTART;VALUE=DATE:20230923
DTEND;VALUE=DATE:20230924
TRANSP:TRANSPARENT
PRIORITY:0
SUMMARY:LHS-JV Softball Trn @ Fort Osage
LOCATION:Fort Osage High School
DESCRIPTION:Groups:\nLHS Softball JV/Varsity\n\nSchools:\nLiberty High Sch
 ool\n\nLocation:\nFort Osage High School\n\n
URL;VALUE=URI:http://liberty53.tandem.co/index.php?type=view&action=event&
 id=473875
CREATED:20230517T192018Z
LAST-MODIFIED:20230517T192018Z
UID:event-473875-liberty53@intand.com
END:VEVENT
END:VCALENDAR
