BEGIN:VCALENDAR
VERSION:2.0
PRODID:-//Intand Corporation//Tandem//EN
METHOD:PUBLISH
BEGIN:VEVENT
DTSTAMP:20260424T023841Z
DTSTART:20230926T210000Z
DTEND:20230926T233000Z
TRANSP:TRANSPARENT
PRIORITY:0
SUMMARY:LHS-JV/Var Softball @ Lee Summit North
LOCATION:Lee's Summit North High School
DESCRIPTION:Groups:\nLHS Softball\nLHS Softball JV/Varsity\n\nSchools:\nLi
 berty High School\n\nLocation:\nLee's Summit North High School\n\n
URL;VALUE=URI:http://liberty53.tandem.co/index.php?type=view&action=event&
 id=473788
CREATED:20230517T182918Z
LAST-MODIFIED:20230517T192232Z
UID:event-473788-liberty53@intand.com
END:VEVENT
END:VCALENDAR
