BEGIN:VCALENDAR
VERSION:2.0
PRODID:-//Intand Corporation//Tandem//EN
METHOD:PUBLISH
BEGIN:VEVENT
DTSTAMP:20260424T063713Z
DTSTART:20231012T220000Z
DTEND:20231013T010000Z
TRANSP:TRANSPARENT
PRIORITY:0
SUMMARY:LHS- C/JV/VAR AWAY VS STALEY
LOCATION:Staley High School
DESCRIPTION:Groups:\nLHS Volleyball\nLHS Volleyball Freshman\nLHS Volleyba
 ll JV/Varsity\nLHS Volleyball Varsity\n\nSchools:\nLiberty High School\n\n
 Location:\nStaley High School\n\n
URL;VALUE=URI:http://liberty53.tandem.co/index.php?type=view&action=event&
 id=473632
CREATED:20230515T200816Z
LAST-MODIFIED:20230516T145222Z
UID:event-473632-liberty53@intand.com
END:VEVENT
END:VCALENDAR
