BEGIN:VCALENDAR
VERSION:2.0
PRODID:-//Intand Corporation//Tandem//EN
METHOD:PUBLISH
BEGIN:VEVENT
DTSTAMP:20260424T054324Z
DTSTART:20230716T090000Z
DTEND:20230717T220000Z
TRANSP:TRANSPARENT
PRIORITY:0
SUMMARY:DCI Hosting (Madison Scouts)
LOCATION:LNHS Room 324\, LNHS Fieldhouse Turf Room\, LNHS Room 111\, LNHS 
 Room 415 - Sports Marketing\, LNHS Room 912\, LNHS Room 907\, LNHS Track\,
  LNHS Health Services Office\, LNHS Room 322\, LNHS Soccer Practice Field 
 - Lower\, LNHS Fieldhous
DESCRIPTION:LN hosts the World Class DCI Madison Scouts Drum and Bugle Cor
 ps - Rehearsals are free and open to the public\n\nGroups:\nLNHS Band\nLNH
 S Color Guard \n\nSchools:\nLiberty North High School\n\nLocations:\nLNHS 
 Room 324\nLNHS Fieldhouse Turf Room\nLNHS Room 111\nLNHS Room 415 - Sports
  Marketing\nLNHS Room 912\nLNHS Room 907\nLNHS Track\nLNHS Health Services
  Office\nLNHS Room 322\nLNHS Soccer Practice Field - Lower\nLNHS Fieldhous
 e (GH HVAC)\nLNHS Parking Lot\nLNHS Soccer Practice Field - Upper\nLNHS Ca
 feteria (GH HVAC)\nLNHS Room 326\nLNHS Room 610E\nLNHS Room 122\nLNHS Room
  514\nLNHS Room 120\nLNHS FB Practice Field  - East\nLNHS FB Practice Fiel
 d - West\nLNHS Performing Arts Theater (GH HVAC)\nLNHS Room 905\nLNHS Room
  612 Orchestra\nLNHS Room 109\nLNHS Rm 106\nLNHS Fieldhouse Mezzanine\nLNH
 S Room 607 Black Box Theater\nLNHS Room 830\nLNHS Room 121\nLNHS NNBD Area
 \nLNHS Great Hall\nLNHS Room 608\nLNHS Room 617 VM-Large\nLNHS Room 829\nL
 NHS Room 613 VM-Small\nLNHS Room 510\nLNHS Eagle Pointe\nLNHS LMC - 200\nL
 NHS Activity Complex\nLNHS Room 616 Band\nLNHS Room 609\nLNHS Room 828\n\n
URL;VALUE=URI:http://liberty53.tandem.co/index.php?type=view&action=event&
 id=473611
CREATED:20230515T204157Z
LAST-MODIFIED:20230620T170043Z
UID:event-473611-liberty53@intand.com
END:VEVENT
END:VCALENDAR
