BEGIN:VCALENDAR
VERSION:2.0
PRODID:-//Intand Corporation//Tandem//EN
METHOD:PUBLISH
BEGIN:VEVENT
DTSTAMP:20260424T055238Z
DTSTART:20230515T210000Z
DTEND:20230515T220000Z
TRANSP:TRANSPARENT
PRIORITY:0
SUMMARY:LHS Network 53 Meeting
LOCATION:LHS Administrative Conference Room
DESCRIPTION:Schools:\nLiberty High School\n\nLocation:\nLHS Administrative
  Conference Room\n\nSupervisors:\nTim Anderson\n\n
URL;VALUE=URI:http://liberty53.tandem.co/index.php?type=view&action=event&
 id=473580
CREATED:20230515T181623Z
LAST-MODIFIED:20230515T181623Z
UID:event-473580-liberty53@intand.com
END:VEVENT
END:VCALENDAR
