BEGIN:VCALENDAR
VERSION:2.0
PRODID:-//Intand Corporation//Tandem//EN
METHOD:PUBLISH
BEGIN:VEVENT
DTSTAMP:20260424T050343Z
DTSTART:20230526T170000Z
DTEND:20230526T180000Z
TRANSP:TRANSPARENT
PRIORITY:0
SUMMARY:RWL Student College Visits - Planning Session
LOCATION:DAC 3-Executive Conference Room
DESCRIPTION:Groups:\nEquity Office\n\nSchools:\nDistrict Administration Ce
 nter\n\nLocation:\nDAC 3-Executive Conference Room\n\n
URL;VALUE=URI:http://liberty53.tandem.co/index.php?type=view&action=event&
 id=473576
CREATED:20230515T162401Z
LAST-MODIFIED:20230515T162401Z
UID:event-473576-liberty53@intand.com
END:VEVENT
END:VCALENDAR
