BEGIN:VCALENDAR
VERSION:2.0
PRODID:-//Intand Corporation//Tandem//EN
METHOD:PUBLISH
BEGIN:VEVENT
DTSTAMP:20260424T061640Z
DTSTART:20230517T113000Z
DTEND:20230517T120000Z
TRANSP:TRANSPARENT
PRIORITY:0
SUMMARY:LHS Football - Offseason Meetings
LOCATION:LHS View Main Floor
DESCRIPTION:Groups:\nLHS Football\n\nSchools:\nLiberty High School\n\nLoca
 tion:\nLHS View Main Floor\n\n
URL;VALUE=URI:http://liberty53.tandem.co/index.php?type=view&action=event&
 id=473559
CREATED:20230515T132317Z
LAST-MODIFIED:20230515T134411Z
UID:event_request-473559-liberty53@intand.com
END:VEVENT
END:VCALENDAR
