BEGIN:VCALENDAR
VERSION:2.0
PRODID:-//Intand Corporation//Tandem//EN
METHOD:PUBLISH
BEGIN:VEVENT
DTSTAMP:20260424T162034Z
DTSTART:20230831T210000Z
DTEND:20230831T223000Z
TRANSP:TRANSPARENT
PRIORITY:0
SUMMARY:LHS- C Boys Soccer Home vs BSS
LOCATION:LMS Soccer Complex
DESCRIPTION:Groups:\nLHS Boys Soccer C-Team\n\nSchools:\nLiberty High Scho
 ol\nLiberty Middle School\n\nLocation:\nLMS Soccer Complex\n\n
URL;VALUE=URI:http://liberty53.tandem.co/index.php?type=view&action=event&
 id=473470
CREATED:20230512T173719Z
LAST-MODIFIED:20230512T173719Z
UID:event-473470-liberty53@intand.com
END:VEVENT
END:VCALENDAR
