BEGIN:VCALENDAR
VERSION:2.0
PRODID:-//Intand Corporation//Tandem//EN
METHOD:PUBLISH
BEGIN:VEVENT
DTSTAMP:20260424T023724Z
DTSTART:20230912T203000Z
DTEND:20230912T220000Z
TRANSP:TRANSPARENT
PRIORITY:0
SUMMARY:LHS-C Boys Soccer Blue HOME vs St. Joe Central
LOCATION:LMS Soccer Field\, LMS Soccer Complex
DESCRIPTION:Groups:\nLHS Boys Soccer C-Team\n\nSchools:\nLiberty High Scho
 ol\nLiberty Middle School\n\nLocations:\nLMS Soccer Field\nLMS Soccer Comp
 lex\n\n
URL;VALUE=URI:http://liberty53.tandem.co/index.php?type=view&action=event&
 id=473453
CREATED:20230512T173409Z
LAST-MODIFIED:20230512T174552Z
UID:event-473453-liberty53@intand.com
END:VEVENT
END:VCALENDAR
