BEGIN:VCALENDAR
VERSION:2.0
PRODID:-//Intand Corporation//Tandem//EN
METHOD:PUBLISH
BEGIN:VEVENT
DTSTAMP:20260424T055525Z
DTSTART:20230605T200000Z
DTEND:20230605T220000Z
TRANSP:TRANSPARENT
PRIORITY:0
SUMMARY:LNMBB Youth Camp
LOCATION:LNHS Fieldhouse (GH HVAC)
DESCRIPTION:Groups:\nLNHS Basketball - Boys JV/Varsity\n\nSchools:\nLibert
 y North High School\n\nLocation:\nLNHS Fieldhouse (GH HVAC)\n\n
URL;VALUE=URI:http://liberty53.tandem.co/index.php?type=view&action=event&
 id=473327
CREATED:20230511T015109Z
LAST-MODIFIED:20230515T121302Z
UID:event_request-473327-liberty53@intand.com
END:VEVENT
END:VCALENDAR
