BEGIN:VCALENDAR
VERSION:2.0
PRODID:-//Intand Corporation//Tandem//EN
METHOD:PUBLISH
BEGIN:VEVENT
DTSTAMP:20260424T054250Z
DTSTART:20230511T173000Z
DTEND:20230511T183000Z
TRANSP:TRANSPARENT
PRIORITY:0
SUMMARY:AA IEP Meeting
LOCATION:LHS Room 606
DESCRIPTION:Groups:\nLHS SPED\n\nSchools:\nLiberty High School\n\nLocation
 :\nLHS Room 606\n\n
URL;VALUE=URI:http://liberty53.tandem.co/index.php?type=view&action=event&
 id=473326
CREATED:20230510T211837Z
LAST-MODIFIED:20230512T125810Z
UID:event_request-473326-liberty53@intand.com
END:VEVENT
END:VCALENDAR
