BEGIN:VCALENDAR
VERSION:2.0
PRODID:-//Intand Corporation//Tandem//EN
METHOD:PUBLISH
BEGIN:VEVENT
DTSTAMP:20260424T024628Z
DTSTART:20230904T220000Z
DTEND:20230905T003000Z
TRANSP:TRANSPARENT
PRIORITY:0
SUMMARY:LHS-JV Football Game home vs liberty North
LOCATION:LHS Turf Game Field
DESCRIPTION:Groups:\nLHS Football JV\n\nSchools:\nLiberty High School\n\nL
 ocation:\nLHS Turf Game Field\n\n
URL;VALUE=URI:http://liberty53.tandem.co/index.php?type=view&action=event&
 id=473289
CREATED:20230510T192624Z
LAST-MODIFIED:20230510T193401Z
UID:event-473289-liberty53@intand.com
END:VEVENT
END:VCALENDAR
