BEGIN:VCALENDAR
VERSION:2.0
PRODID:-//Intand Corporation//Tandem//EN
METHOD:PUBLISH
BEGIN:VEVENT
DTSTAMP:20260424T041700Z
DTSTART:20230923T000000Z
DTEND:20230923T040000Z
TRANSP:TRANSPARENT
PRIORITY:0
SUMMARY:LHS-Varsity Football Away vs Park Hill South
LOCATION:Park Hill South Football Field
DESCRIPTION:Groups:\nLHS Football Varsity\n\nSchools:\nLiberty High School
 \n\nLocation:\nPark Hill South Football Field\n\n
URL;VALUE=URI:http://liberty53.tandem.co/index.php?type=view&action=event&
 id=473252
CREATED:20230510T172825Z
LAST-MODIFIED:20230510T173155Z
UID:event-473252-liberty53@intand.com
END:VEVENT
END:VCALENDAR
