BEGIN:VCALENDAR
VERSION:2.0
PRODID:-//Intand Corporation//Tandem//EN
METHOD:PUBLISH
BEGIN:VEVENT
DTSTAMP:20260424T023929Z
DTSTART:20230511T200000Z
DTEND:20230511T210000Z
TRANSP:TRANSPARENT
PRIORITY:0
SUMMARY:DAC 410- N53
LOCATION:DAC 4 - 409
DESCRIPTION:Groups:\nDAC College and Career\n\nSchools:\nDistrict Administ
 ration Center\n\nLocation:\nDAC 4 - 409\n\n
URL;VALUE=URI:http://liberty53.tandem.co/index.php?type=view&action=event&
 id=473227
CREATED:20230510T161603Z
LAST-MODIFIED:20230510T161603Z
UID:event-473227-liberty53@intand.com
END:VEVENT
END:VCALENDAR
