BEGIN:VCALENDAR
VERSION:2.0
PRODID:-//Intand Corporation//Tandem//EN
METHOD:PUBLISH
BEGIN:VEVENT
DTSTAMP:20260424T053527Z
DTSTART:20230504T163000Z
DTEND:20230504T210000Z
TRANSP:TRANSPARENT
PRIORITY:0
SUMMARY:LPS AP Testing
LOCATION:LHS Hall of Fame Room
DESCRIPTION:Schools:\nLiberty High School\n\nLocation:\nLHS Hall of Fame R
 oom\n\n
URL;VALUE=URI:http://liberty53.tandem.co/index.php?type=view&action=event&
 id=472903
CREATED:20230504T131945Z
LAST-MODIFIED:20230504T131945Z
UID:event-472903-liberty53@intand.com
END:VEVENT
END:VCALENDAR
