BEGIN:VCALENDAR
VERSION:2.0
PRODID:-//Intand Corporation//Tandem//EN
METHOD:PUBLISH
BEGIN:VEVENT
DTSTAMP:20260424T043201Z
DTSTART:20231129T140000Z
DTEND:20231129T210000Z
TRANSP:TRANSPARENT
PRIORITY:0
SUMMARY:Sounds of the Season
LOCATION:LHS Room 800 PAC/Theater\, LHS Room 808 Band\, LHS Theater Lobby\
 , LHS Room 809 Band
DESCRIPTION:Setup: 7:00 am\nBreakdown: 4:00 pm\n\nGroups:\nFine Arts\n\nSc
 hools:\nLiberty High School\n\nLocations:\nLHS Room 800 PAC/Theater\nLHS R
 oom 808 Band\nLHS Theater Lobby\nLHS Room 809 Band\n\nContacts:\nAaron Mon
 ey\n\n
URL;VALUE=URI:http://liberty53.tandem.co/index.php?type=view&action=event&
 id=472836
CREATED:20230503T153410Z
LAST-MODIFIED:20230503T153410Z
UID:event-472836-liberty53@intand.com
END:VEVENT
END:VCALENDAR
